BEGIN:VCALENDAR
VERSION:2.0
PRODID:EVENTFROG//EVENT//ICAL
BEGIN:VEVENT
UID:20260423T002232Z-7452750528893702675@eventfrog.de
DTSTAMP:20260423T002232Z
DTSTART:20260508T170000Z
DTEND:20260508T200000Z
SUMMARY:40 Jahre „Hello Music“: Jubiläumskonzert „More Than Words“
DESCRIPTION:Hello Music feiert mit Local Vocal aus Århus sein 40-jähriges Jubiläumskonzert «More Than Words» am 8. Mai, 19 Uhr in der Hebbelschule Kiel.\n\nhttps://eventfrog.de/de/p/konzerte/a-cappella-vocal/40-jahre-hello-music-jubilaeumskonzert-more-than-words-7452750528893702675.html
LOCATION:Hebbelschule
GEO:54.348463;10.138261
URL:https://eventfrog.de/de/p/konzerte/a-cappella-vocal/40-jahre-hello-music-jubilaeumskonzert-more-than-words-7452750528893702675.html
END:VEVENT
END:VCALENDAR