BEGIN:VCALENDAR
VERSION:2.0
PRODID:EVENTFROG//EVENT//ICAL
BEGIN:VEVENT
UID:20260424T085340Z-7452760240611699884@eventfrog.de
DTSTAMP:20260424T085340Z
DTSTART:20260502T210000Z
DTEND:20260503T020000Z
SUMMARY:SHAWTY @DEZENT. ST. GALLEN
DESCRIPTION:SHAWTY kehrt mit Hip Hop, RnB, Afro und Karaoke für zwei Nächte im Club DEZENT. St. Gallen zurück, am 02. Mai 2026.\n\nhttps://eventfrog.de/de/p/partys/hip-hop-rap/shawty-dezent-st-gallen-7452760240611699884.html
LOCATION:DEZENT.
GEO:47.425361;9.373692
URL:https://eventfrog.de/de/p/partys/hip-hop-rap/shawty-dezent-st-gallen-7452760240611699884.html
END:VEVENT
END:VCALENDAR