BEGIN:VCALENDAR
VERSION:2.0
PRODID:EVENTFROG//EVENT//ICAL
BEGIN:VEVENT
UID:20260424T233943Z-7452787997999670818@eventfrog.de
DTSTAMP:20260424T233943Z
DTSTART:20260425T180000Z
DTEND:20260425T200000Z
SUMMARY:BOING! Comedy Club im Horizont!
DESCRIPTION:ROHE, FRECHE, GUTE Comedy im BOING! Comedy Club Köln mit bekannten Gesichtern und heißen Newcomer*innen. Vielfältige Shows für alle, die echte Stand-up Comedy lieben.\n\nhttps://eventfrog.de/de/p/theater-buehne/comedy-kabarett/boing-comedy-club-im-horizont-7452787997999670818.html
LOCATION:Horizont Theater
GEO:50.949342;6.959975
URL:https://eventfrog.de/de/p/theater-buehne/comedy-kabarett/boing-comedy-club-im-horizont-7452787997999670818.html
END:VEVENT
END:VCALENDAR