BEGIN:VCALENDAR
VERSION:2.0
PRODID:EVENTFROG//EVENT//ICAL
BEGIN:VEVENT
UID:20260424T101916Z-7452788971300492280@eventfrog.de
DTSTAMP:20260424T101916Z
DTSTART:20270313T193000Z
DTEND:20270313T213000Z
SUMMARY:Fabian Unteregger mit "Fachkräftemangel"
DESCRIPTION:Alle schreien nach Fachkräften. Und diese sind nirgends. Höchste Zeit, dass wenigstens Unteregger wieder auf die Bühne steigt. Ob Fachkraft oder nicht – garantiert unterhaltsam.\n\nhttps://eventfrog.de/de/p/theater-buehne/comedy-kabarett/fabian-unteregger-mit-fachkraeftemangel-7452788971300492280.html
LOCATION:Alti Moschti
GEO:46.814744;7.513911
URL:https://eventfrog.de/de/p/theater-buehne/comedy-kabarett/fabian-unteregger-mit-fachkraeftemangel-7452788971300492280.html
END:VEVENT
END:VCALENDAR