BEGIN:VCALENDAR
VERSION:2.0
PRODID:EVENTFROG//EVENT//ICAL
BEGIN:VEVENT
UID:20260424T103700Z-7452812013628039462@eventfrog.de
DTSTAMP:20260424T103700Z
DTSTART:20270417T183000Z
DTEND:20270417T203000Z
SUMMARY:Riklin & Schaub mit "Lieder, die ins Auge gehen"
DESCRIPTION:In ihrer dritten Konzertshow besingen die beiden Multiinstrumentalisten den Kabelsalat und erklären leidenschaftlich, wie man am Schnellsten eine Banane schält. \n\nhttps://eventfrog.de/de/p/theater-buehne/comedy-kabarett/riklin-schaub-mit-lieder-die-ins-auge-gehen-7452812013628039462.html
LOCATION:Alti Moschti
GEO:46.814744;7.513911
URL:https://eventfrog.de/de/p/theater-buehne/comedy-kabarett/riklin-schaub-mit-lieder-die-ins-auge-gehen-7452812013628039462.html
END:VEVENT
END:VCALENDAR