BEGIN:VCALENDAR
VERSION:2.0
PRODID:EVENTFROG//EVENT//ICAL
BEGIN:VEVENT
UID:20260424T122006Z-7452825177384062710@eventfrog.de
DTSTAMP:20260424T122006Z
DTSTART:20260704T120000Z
DTEND:20260704T143000Z
SUMMARY:Farragut North
DESCRIPTION:FARRAGUT NORTH portrays the ruthless strategies and shifting loyalties behind a US presidential primary campaign.\n\nhttps://eventfrog.de/en/p/theatre-stage/theatre/farragut-north-7452825177384062710.html
LOCATION:Millers
GEO:47.351585;8.561410
URL:https://eventfrog.de/en/p/theatre-stage/theatre/farragut-north-7452825177384062710.html
END:VEVENT
END:VCALENDAR