BEGIN:VCALENDAR
VERSION:2.0
PRODID:EVENTFROG//EVENT//ICAL
BEGIN:VEVENT
UID:20260425T193439Z-7452834932878000064@eventfrog.de
DTSTAMP:20260425T193439Z
DTSTART:20260530T100000Z
SUMMARY:Entrümpelungsparty Kult-X
DESCRIPTION:Entrümpelungsparty Kult-X\n\nhttps://eventfrog.de/de/p/konzerte/entruempelungsparty-kult-x-7452834932878000064.html
LOCATION:Kult-X
GEO:47.651587;9.175423
URL:https://eventfrog.de/de/p/konzerte/entruempelungsparty-kult-x-7452834932878000064.html
END:VEVENT
END:VCALENDAR