BEGIN:VCALENDAR
VERSION:2.0
PRODID:EVENTFROG//EVENT//ICAL
BEGIN:VEVENT
UID:20260424T074749Z-7452835028625578327@eventfrog.de
DTSTAMP:20260424T074749Z
DTSTART:20260428T173000Z
DTEND:20260428T200000Z
SUMMARY:Barbara Buser
DESCRIPTION:Barbara Buser\n\nhttps://eventfrog.de/de/p/freizeit-ausfluege/barbara-buser-7452835028625578327.html
LOCATION:Kino Roxy
GEO:47.565019;9.374795
URL:https://eventfrog.de/de/p/freizeit-ausfluege/barbara-buser-7452835028625578327.html
END:VEVENT
END:VCALENDAR