BEGIN:VCALENDAR
VERSION:2.0
PRODID:EVENTFROG//EVENT//ICAL
BEGIN:VEVENT
UID:20260424T101916Z-7452838922390905173@eventfrog.de
DTSTAMP:20260424T101916Z
DTSTART:20260429T170000Z
DTEND:20260429T183000Z
SUMMARY:Theaterensemble der Kantonsschule Trogen - Jugend ohne Gott
DESCRIPTION:Jugend ohne Gott (Ödön von Horváth)\n\nhttps://eventfrog.de/de/p/theater-buehne/theaterensemble-der-kantonsschule-trogen-jugend-ohne-gott-7452838922390905173.html
LOCATION:Aula der Kantonsschule Trogen
GEO:47.408531;9.460668
URL:https://eventfrog.de/de/p/theater-buehne/theaterensemble-der-kantonsschule-trogen-jugend-ohne-gott-7452838922390905173.html
END:VEVENT
END:VCALENDAR