BEGIN:VCALENDAR
VERSION:2.0
PRODID:EVENTFROG//EVENT//ICAL
BEGIN:VEVENT
UID:20260424T075719Z-7452955825289597565@eventfrog.de
DTSTAMP:20260424T075719Z
DTSTART:20260512T120000Z
DTEND:20260512T140000Z
SUMMARY:Frauen-Erzählcafé
DESCRIPTION:Frauen treffen sich, um sich miteinander auszutauschen und interessante Geschichten zu erfahren.\n\nhttps://eventfrog.de/de/p/freizeit-ausfluege/sonstige-veranstaltungen/frauen-erzaehlcafe-7452955825289597565.html
LOCATION:Heiliger BimBam, Hans-Haller-Gasse 4, Bülach
GEO:47.516781;8.540568
URL:https://eventfrog.de/de/p/freizeit-ausfluege/sonstige-veranstaltungen/frauen-erzaehlcafe-7452955825289597565.html
END:VEVENT
END:VCALENDAR