BEGIN:VCALENDAR
VERSION:2.0
PRODID:EVENTFROG//EVENT//ICAL
BEGIN:VEVENT
UID:20260424T085108Z-7452962476075817714@eventfrog.de
DTSTAMP:20260424T085108Z
DTSTART:20260629T180000Z
SUMMARY:Sommerständli mit dem PopChor Aarberg
DESCRIPTION:Sommerabend auf unserer Terrasse mit musikalischer Unterhaltung mit dem PopChor Aarberg\n\nhttps://eventfrog.de/de/p/konzerte/chor/sommerstaendli-mit-dem-popchor-aarberg-7452962476075817714.html
LOCATION:Gasthof Sternen
GEO:47.002141;7.270671
URL:https://eventfrog.de/de/p/konzerte/chor/sommerstaendli-mit-dem-popchor-aarberg-7452962476075817714.html
END:VEVENT
END:VCALENDAR