BEGIN:VCALENDAR
VERSION:2.0
PRODID:EVENTFROG//EVENT//ICAL
BEGIN:VEVENT
UID:20260424T083658Z-7452962513937801778@eventfrog.de
DTSTAMP:20260424T083658Z
DTSTART:20260508T180000Z
DTEND:20260508T210000Z
SUMMARY:Pop & Rock Night
DESCRIPTION:Am 8. Mai spielt die Jorotschy Band ab 20 Uhr in der Pyramide Meggen ein abwechslungsreiches Cover-Programm.\n\nhttps://eventfrog.de/de/p/konzerte/pop-rock/pop-rock-night-7452962513937801778.html
LOCATION:Restaurant & Bistro Pyramide
GEO:47.047001;8.373447
URL:https://eventfrog.de/de/p/konzerte/pop-rock/pop-rock-night-7452962513937801778.html
END:VEVENT
END:VCALENDAR