BEGIN:VCALENDAR
VERSION:2.0
PRODID:EVENTFROG//EVENT//ICAL
BEGIN:VEVENT
UID:20260424T093205Z-7452962996895142785@eventfrog.de
DTSTAMP:20260424T093205Z
DTSTART:20260911T160000Z
DTEND:20260913T010000Z
SUMMARY:SALSA & BACHATA EVENT
DESCRIPTION:SALSA E BACHATA EVENT\n\nhttps://eventfrog.de/de/p/partys/latin-brasil/salsa-bachata-event-7452962996895142785.html
LOCATION:COLORS DANCE CLUB
GEO:47.394808;8.478875
URL:https://eventfrog.de/de/p/partys/latin-brasil/salsa-bachata-event-7452962996895142785.html
END:VEVENT
END:VCALENDAR