BEGIN:VCALENDAR
VERSION:2.0
PRODID:EVENTFROG//EVENT//ICAL
BEGIN:VEVENT
UID:20260424T083922Z-7452967793807384675@eventfrog.de
DTSTAMP:20260424T083922Z
DTSTART:20260622T170000Z
SUMMARY:Sommerständli mit den Frienisberger Blasmusikanten
DESCRIPTION:Sommerabend auf unserer Terrasse mit musikalischer Unterhaltung mit den Frienisberger Blasmusikanten\n\nhttps://eventfrog.de/de/p/konzerte/chor/sommerstaendli-mit-den-frienisberger-blasmusikanten-7452967793807384675.html
LOCATION:Gasthof Sternen
GEO:47.002141;7.270671
URL:https://eventfrog.de/de/p/konzerte/chor/sommerstaendli-mit-den-frienisberger-blasmusikanten-7452967793807384675.html
END:VEVENT
END:VCALENDAR