BEGIN:VCALENDAR
VERSION:2.0
PRODID:EVENTFROG//EVENT//ICAL
BEGIN:VEVENT
UID:20260424T135211Z-7452977097679586797@eventfrog.de
DTSTAMP:20260424T135211Z
DTSTART:20260424T062000Z
DTEND:20260815T220000Z
SUMMARY:Schwimmkurs Demen
DESCRIPTION:Schwimmkurs Demen \n\nhttps://eventfrog.de/de/p/sport-fitness/wassersport/schwimmkurs-demen-7452977097679586797.html
LOCATION:19089
GEO:53.577800;11.694659
URL:https://eventfrog.de/de/p/sport-fitness/wassersport/schwimmkurs-demen-7452977097679586797.html
END:VEVENT
END:VCALENDAR