BEGIN:VCALENDAR
VERSION:2.0
PRODID:EVENTFROG//EVENT//ICAL
BEGIN:VEVENT
UID:20260425T032828Z-7452980399360180262@eventfrog.de
DTSTAMP:20260425T032828Z
DTSTART:20260611T150000Z
DTEND:20260611T200000Z
SUMMARY:SOUNDBAR IM ESSZIMMER & LOFT
DESCRIPTION:Die Soundbar im ESSZIMMER & LOFT findet donnerstags 17-22 Uhr in der Coco Bar statt mit entspannter Atmosphäre und Musik.\n\nhttps://eventfrog.de/de/p/diverses/soundbar-im-esszimmer-loft-7452980399360180262.html
LOCATION:ESSZIMMER & LOFT
GEO:47.062932;8.310120
URL:https://eventfrog.de/de/p/diverses/soundbar-im-esszimmer-loft-7452980399360180262.html
END:VEVENT
END:VCALENDAR