BEGIN:VCALENDAR
VERSION:2.0
PRODID:EVENTFROG//EVENT//ICAL
BEGIN:VEVENT
UID:20260424T085108Z-7453005045627363542@eventfrog.de
DTSTAMP:20260424T085108Z
DTSTART:20261002T170000Z
DTEND:20261002T183000Z
SUMMARY:MANTRA CHANTING & JEWEL DANCE mit DECHEN
DESCRIPTION:Mantra singen und Jewel Dance mit Dechen am Freitag 29.5.26 im Ruum8 in Wädenswil.\n\nhttps://eventfrog.de/de/p/kurse-seminare/musik-tanz/mantra-chanting-jewel-dance-mit-dechen-7453005045627363542.html
LOCATION:RUUM 8
GEO:47.227448;8.674305
URL:https://eventfrog.de/de/p/kurse-seminare/musik-tanz/mantra-chanting-jewel-dance-mit-dechen-7453005045627363542.html
END:VEVENT
END:VCALENDAR