BEGIN:VCALENDAR
VERSION:2.0
PRODID:EVENTFROG//EVENT//ICAL
BEGIN:VEVENT
UID:20260424T101550Z-7453011963519465834@eventfrog.de
DTSTAMP:20260424T101550Z
DTSTART:20260923T120000Z
DTEND:20260923T140000Z
SUMMARY:Entspannungsmethoden für Kinder von 6 bis ca. 11 Jahren
DESCRIPTION:Einfache Entspannungs-Methoden für Kinder\n\nhttps://eventfrog.de/de/p/kurse-seminare/sonstige-kurse-seminare/entspannungsmethoden-fuer-kinder-von-6-bis-ca-11-jahren-7453011963519465834.html
LOCATION:RUUM 8
GEO:47.227448;8.674305
URL:https://eventfrog.de/de/p/kurse-seminare/sonstige-kurse-seminare/entspannungsmethoden-fuer-kinder-von-6-bis-ca-11-jahren-7453011963519465834.html
END:VEVENT
END:VCALENDAR