BEGIN:VCALENDAR
VERSION:2.0
PRODID:EVENTFROG//EVENT//ICAL
BEGIN:VEVENT
UID:20260424T190415Z-7453024028963418161@eventfrog.de
DTSTAMP:20260424T190415Z
DTSTART:20260509T183000Z
DTEND:20260509T230000Z
SUMMARY:GlobalDance, Konzert Hermanos Perdidos World, Latin, Cumbia
DESCRIPTION:Die sechsköpfige Band spielt tanzbare Rhythmen und melancholische Texte im langsamen mexikanischen Cumbia Rebajada-Stil.\n\nhttps://eventfrog.de/de/p/konzerte/latin/globaldance-konzert-hermanos-perdidos-world-latin-cumbia-7453024028963418161.html
LOCATION:Lok.al
GEO:47.494262;8.734270
URL:https://eventfrog.de/de/p/konzerte/latin/globaldance-konzert-hermanos-perdidos-world-latin-cumbia-7453024028963418161.html
END:VEVENT
END:VCALENDAR