BEGIN:VCALENDAR
VERSION:2.0
PRODID:EVENTFROG//EVENT//ICAL
BEGIN:VEVENT
UID:20260424T100539Z-7453038047342410756@eventfrog.de
DTSTAMP:20260424T100539Z
DTSTART:20260721T180000Z
SUMMARY:Intime Zwiesprache - Musik für Theorbe (Laute) und Gesang
DESCRIPTION:Musik des frühen 17. Jh. für Theorbe (Laute) und Sopran. Yuichi Sasaki, Japan, Theorbe und Florie Leloup, Belgien, Sopran. Monteverdi, Schütz, Rossi, Tunder u.a.\n\nhttps://eventfrog.de/de/p/klassik-opern/klassik/intime-zwiesprache-musik-fuer-theorbe-laute-und-gesang-7453038047342410756.html
LOCATION:Kirche St. Michaelis Sagard
GEO:54.526626;13.555915
URL:https://eventfrog.de/de/p/klassik-opern/klassik/intime-zwiesprache-musik-fuer-theorbe-laute-und-gesang-7453038047342410756.html
END:VEVENT
END:VCALENDAR