BEGIN:VCALENDAR
VERSION:2.0
PRODID:EVENTFROG//EVENT//ICAL
BEGIN:VEVENT
UID:20260425T114639Z-7453048183171623122@eventfrog.de
DTSTAMP:20260425T114639Z
DTSTART:20260429T190000Z
DTEND:20260429T230000Z
SUMMARY:Murder on the Dancefloor - Chez ta mère
DESCRIPTION:Step into the atmosphere at Chez ta mère in Lausanne and experience the Gala theme that could've won.\n\nhttps://eventfrog.de/fr/p/soirees-fetes/autres-fetes/murder-on-the-dancefloor-chez-ta-mere-7453048183171623122.html
LOCATION:Chez ta mère
GEO:46.525409;6.635780
URL:https://eventfrog.de/fr/p/soirees-fetes/autres-fetes/murder-on-the-dancefloor-chez-ta-mere-7453048183171623122.html
END:VEVENT
END:VCALENDAR