BEGIN:VCALENDAR
VERSION:2.0
PRODID:EVENTFROG//EVENT//ICAL
BEGIN:VEVENT
UID:20260424T215852Z-7453055783363680129@eventfrog.de
DTSTAMP:20260424T215852Z
DTSTART:20260530T123000Z
DTEND:20260530T140000Z
SUMMARY:Musical "Änet dä Möirä"
DESCRIPTION:Das Musical «Änet dä Möirä» der IOS Engelberg lässt uns erkennen, dass der künstlichen Intelligenz ohne die Kraft der Erde die Energie ausgeht.\n\nhttps://eventfrog.de/de/p/musicals-shows/musical/musical-aenet-dae-moeirae-7453055783363680129.html
LOCATION:IOS
GEO:46.819832;8.411841
URL:https://eventfrog.de/de/p/musicals-shows/musical/musical-aenet-dae-moeirae-7453055783363680129.html
END:VEVENT
END:VCALENDAR