BEGIN:VCALENDAR
VERSION:2.0
PRODID:EVENTFROG//EVENT//ICAL
BEGIN:VEVENT
UID:20260424T234145Z-7453065805636319317@eventfrog.de
DTSTAMP:20260424T234145Z
DTSTART:20260514T180000Z
DTEND:20260514T200000Z
SUMMARY:Moderne Talking (Comedy Night)
DESCRIPTION:Bei Moderne Talking sorgen 8-10 Comedians ab 20:00 Uhr für einen unterhaltsamen Comedy-Abend, Türöffnung um 19:00 Uhr.\n\nhttps://eventfrog.de/de/p/theater-buehne/comedy-kabarett/moderne-talking-comedy-night-7453065805636319317.html
LOCATION:Moderne Bar & Karussell
GEO:47.048440;8.306079
URL:https://eventfrog.de/de/p/theater-buehne/comedy-kabarett/moderne-talking-comedy-night-7453065805636319317.html
END:VEVENT
END:VCALENDAR