BEGIN:VCALENDAR
VERSION:2.0
PRODID:EVENTFROG//EVENT//ICAL
BEGIN:VEVENT
UID:20260424T083512Z-7453069084189568314@eventfrog.de
DTSTAMP:20260424T083512Z
DTSTART:20260501T210000Z
DTEND:20260502T020000Z
SUMMARY:SPANISH FIESTA
DESCRIPTION:PARTY SERIE\n\nSPANISH MUSIC, LATIN & MORE..\n\nhttps://eventfrog.de/de/p/partys/sonstige-partys/spanish-fiesta-7453069084189568314.html
LOCATION:Club Cello (ehem. Singer Klub)
GEO:47.558701;7.587037
URL:https://eventfrog.de/de/p/partys/sonstige-partys/spanish-fiesta-7453069084189568314.html
END:VEVENT
END:VCALENDAR