BEGIN:VCALENDAR
VERSION:2.0
PRODID:EVENTFROG//EVENT//ICAL
BEGIN:VEVENT
UID:20260424T215826Z-7453071932289750130@eventfrog.de
DTSTAMP:20260424T215826Z
DTSTART:20270520T180000Z
DTEND:20270520T200000Z
SUMMARY:Moderne Talking (COMEDY NIGHT)
DESCRIPTION:Bei Moderne Talking treten 8-10 Comedians auf, Start 20 Uhr, moderiert von Sladi, Eintritt gratis, ohne Reservation.\n\nhttps://eventfrog.de/de/p/theater-buehne/comedy-kabarett/moderne-talking-comedy-night-7453071932289750130.html
LOCATION:Moderne Bar & Karussell
GEO:47.048440;8.306079
URL:https://eventfrog.de/de/p/theater-buehne/comedy-kabarett/moderne-talking-comedy-night-7453071932289750130.html
END:VEVENT
END:VCALENDAR