BEGIN:VCALENDAR
VERSION:2.0
PRODID:EVENTFROG//EVENT//ICAL
BEGIN:VEVENT
UID:20260425T102249Z-7453079496888965100@eventfrog.de
DTSTAMP:20260425T102249Z
DTSTART:20260508T170000Z
DTEND:20260508T183000Z
SUMMARY:Frozen Cinderellas
DESCRIPTION:Philosophisch-humorvolle Geschichten mit Musik\n\nhttps://eventfrog.de/de/p/konzerte/weitere-musikrichtungen/frozen-cinderellas-7453079496888965100.html
LOCATION:Theater Delly
GEO:47.206321;7.535838
URL:https://eventfrog.de/de/p/konzerte/weitere-musikrichtungen/frozen-cinderellas-7453079496888965100.html
END:VEVENT
END:VCALENDAR