BEGIN:VCALENDAR
VERSION:2.0
PRODID:EVENTFROG//EVENT//ICAL
BEGIN:VEVENT
UID:20260424T105955Z-7453091871541204407@eventfrog.de
DTSTAMP:20260424T105955Z
DTSTART:20260509T080000Z
DTEND:20260509T120000Z
SUMMARY:Weltrotkreuztag
DESCRIPTION:Das SRK Kanton Zug, die SLRG Zug, der Samariterverband Kanton Zug und REDOG Innerschweiz stellen sich vor. Highlight bildet eine Live-Show mit Parcour der REDOG-Suchhunde.\n\nhttps://eventfrog.de/de/p/diverses/weltrotkreuztag-7453091871541204407.html
LOCATION:Bundesplatz Zug
GEO:47.171253;8.514304
URL:https://eventfrog.de/de/p/diverses/weltrotkreuztag-7453091871541204407.html
END:VEVENT
END:VCALENDAR