BEGIN:VCALENDAR
VERSION:2.0
PRODID:EVENTFROG//EVENT//ICAL
BEGIN:VEVENT
UID:20260424T192438Z-7453093620133921625@eventfrog.de
DTSTAMP:20260424T192438Z
DTSTART:20260507T110000Z
DTEND:20260507T160000Z
SUMMARY:Free training session: The 360°-CORE training of tomorrow.
DESCRIPTION:Gratis Probesession für das wohl schnellste & verrückteste Rumpftraining// FREE TRAINING SESSION FOR THE CORE TRAINING OF TOMORROW.\n\nEinsteigen. Drehen. Spüren. 360 Grad-Rumpfmuskeltraining.\n\n\n\nhttps://eventfrog.de/de/p/sport-fitness/fitness/free-training-session-the-360-core-training-of-tomorrow-7453093620133921625.html
LOCATION:RT360 AG - das Rumpfmuskeltraining der Zukunft
GEO:47.367520;8.559867
URL:https://eventfrog.de/de/p/sport-fitness/fitness/free-training-session-the-360-core-training-of-tomorrow-7453093620133921625.html
END:VEVENT
END:VCALENDAR