BEGIN:VCALENDAR
VERSION:2.0
PRODID:EVENTFROG//EVENT//ICAL
BEGIN:VEVENT
UID:20260424T084507Z-7453094779296943542@eventfrog.de
DTSTAMP:20260424T084507Z
DTSTART:20260521T170000Z
DTEND:20260521T180000Z
SUMMARY:Beyond Breath: The Power Hour - Activation Breathwork
DESCRIPTION:To be updated\n\nhttps://eventfrog.de/de/p/gesundheit-spiritualitaet/wellness/beyond-breath-the-power-hour-activation-breathwork-7453094779296943542.html
LOCATION:Studio Kayana
GEO:47.365934;8.532736
URL:https://eventfrog.de/de/p/gesundheit-spiritualitaet/wellness/beyond-breath-the-power-hour-activation-breathwork-7453094779296943542.html
END:VEVENT
END:VCALENDAR