BEGIN:VCALENDAR
VERSION:2.0
PRODID:EVENTFROG//EVENT//ICAL
BEGIN:VEVENT
UID:20260424T105945Z-7453097886290564501@eventfrog.de
DTSTAMP:20260424T105945Z
DTSTART:20260512T130000Z
DTEND:20260512T140000Z
SUMMARY:Schwammstadt
DESCRIPTION:Herr Sonderegger erklärt die Schwammstadt als nachhaltige Lösung, die Regenwasser versickern lässt und die Stadt kühlt. Ein Anlass des Lyceum Club St. Gallen;  www.lyceumclubsg.ch/agenda\n\nhttps://eventfrog.de/de/p/fuehrungen-vortraege/vortrag/schwammstadt-7453097886290564501.html
LOCATION:Kulturmuseum St.Gallen
GEO:47.428650;9.382990
URL:https://eventfrog.de/de/p/fuehrungen-vortraege/vortrag/schwammstadt-7453097886290564501.html
END:VEVENT
END:VCALENDAR