BEGIN:VCALENDAR
VERSION:2.0
PRODID:EVENTFROG//EVENT//ICAL
BEGIN:VEVENT
UID:20260424T091107Z-7453099743280904199@eventfrog.de
DTSTAMP:20260424T091107Z
DTSTART:20260509T210000Z
DTEND:20260510T030000Z
SUMMARY:Groove Garden
DESCRIPTION:Our secret garden of pleasure\n\nhttps://eventfrog.de/de/p/partys/house-techno/groove-garden-7453099743280904199.html
LOCATION:Kaufleuten Club
GEO:47.371008;8.535925
URL:https://eventfrog.de/de/p/partys/house-techno/groove-garden-7453099743280904199.html
END:VEVENT
END:VCALENDAR