BEGIN:VCALENDAR
VERSION:2.0
PRODID:EVENTFROG//EVENT//ICAL
BEGIN:VEVENT
UID:20260424T075840Z-7453118225997365593@eventfrog.de
DTSTAMP:20260424T075840Z
DTSTART:20260503T150000Z
DTEND:20260503T173000Z
SUMMARY:Joseph Haydn: Die Schöpfung
DESCRIPTION:Haydns Oratorium «Die Schöpfung» beeindruckt seit der Uraufführung 1798 mit zeitloser Bedeutung und Strahlkraft.\n\nhttps://eventfrog.de/de/p/konzerte/chor/joseph-haydn-die-schoepfung-7453118225997365593.html
LOCATION:Tonhalle Zürich
GEO:47.366091;8.537969
URL:https://eventfrog.de/de/p/konzerte/chor/joseph-haydn-die-schoepfung-7453118225997365593.html
END:VEVENT
END:VCALENDAR