BEGIN:VCALENDAR
VERSION:2.0
PRODID:EVENTFROG//EVENT//ICAL
BEGIN:VEVENT
UID:20260424T085136Z-7453150317456187224@eventfrog.de
DTSTAMP:20260424T085136Z
DTSTART:20260515T180000Z
DTEND:20260515T203000Z
SUMMARY:Folk in Heaven: Eric Brace & Thomm Jutz (USA)
DESCRIPTION:Eric Brace und Thomm Jutz, die zwei Grammy-nominierten Singer-Songwriter aus Nashville machen am 15. Mai auf ihrer diesjährigen Europatournee im Haus zum Himmel Halt. Americana pur!\n\nhttps://eventfrog.de/de/p/konzerte/singer-songwriter/folk-in-heaven-eric-brace-thomm-jutz-usa-7453150317456187224.html
LOCATION:Haus zum Himmel
GEO:47.175800;7.336590
URL:https://eventfrog.de/de/p/konzerte/singer-songwriter/folk-in-heaven-eric-brace-thomm-jutz-usa-7453150317456187224.html
END:VEVENT
END:VCALENDAR