BEGIN:VCALENDAR
VERSION:2.0
PRODID:EVENTFROG//EVENT//ICAL
BEGIN:VEVENT
UID:20260424T231239Z-7453196187270705090@eventfrog.de
DTSTAMP:20260424T231239Z
DTSTART:20261111T180000Z
SUMMARY:Mateo Gudenrath - Unfiltered
DESCRIPTION:Mateo Gudenrath - Unfiltered\n\nhttps://eventfrog.de/de/p/konzerte/mateo-gudenrath-unfiltered-7453196187270705090.html
LOCATION:Grabenhalle
GEO:47.427340;9.374160
URL:https://eventfrog.de/de/p/konzerte/mateo-gudenrath-unfiltered-7453196187270705090.html
END:VEVENT
END:VCALENDAR