BEGIN:VCALENDAR
VERSION:2.0
PRODID:EVENTFROG//EVENT//ICAL
BEGIN:VEVENT
UID:20260425T193412Z-7453196187623026655@eventfrog.de
DTSTAMP:20260425T193412Z
DTSTART:20260430T160000Z
SUMMARY:Anlass Zum 1. Mai
DESCRIPTION:Anlass Zum 1. Mai\n\nhttps://eventfrog.de/de/p/konzerte/anlass-zum-1-mai-7453196187623026655.html
LOCATION:Grabenhalle
GEO:47.427340;9.374160
URL:https://eventfrog.de/de/p/konzerte/anlass-zum-1-mai-7453196187623026655.html
END:VEVENT
END:VCALENDAR