BEGIN:VCALENDAR
VERSION:2.0
PRODID:EVENTFROG//EVENT//ICAL
BEGIN:VEVENT
UID:20260424T080428Z-7453196381651474348@eventfrog.de
DTSTAMP:20260424T080428Z
DTSTART:20260730T220000Z
SUMMARY:DAYDANCE AM HAFEN
DESCRIPTION:Daydance am Hafen in Rorschach: Feiern, wo andere in den Sonnenuntergang segeln. Sichere dir jetzt dein Ticket!\n\nhttps://eventfrog.de/de/p/konzerte/daydance-am-hafen-7453196381651474348.html
LOCATION:Café Bar Treppenhaus
GEO:47.477528;9.495363
URL:https://eventfrog.de/de/p/konzerte/daydance-am-hafen-7453196381651474348.html
END:VEVENT
END:VCALENDAR