BEGIN:VCALENDAR
VERSION:2.0
PRODID:EVENTFROG//EVENT//ICAL
BEGIN:VEVENT
UID:20260424T074718Z-7453196381827635117@eventfrog.de
DTSTAMP:20260424T074718Z
DTSTART:20260710T220000Z
SUMMARY:DAYDANCE AM KIRCHPLATZ
DESCRIPTION:Daydance am Kirchplatz in Rorschach: Feiern, wo andere Gelato schlecken. Jetzt Tickets sichern!\n\nhttps://eventfrog.de/de/p/konzerte/daydance-am-kirchplatz-7453196381827635117.html
LOCATION:Café Bar Treppenhaus
GEO:47.477528;9.495363
URL:https://eventfrog.de/de/p/konzerte/daydance-am-kirchplatz-7453196381827635117.html
END:VEVENT
END:VCALENDAR