BEGIN:VCALENDAR
VERSION:2.0
PRODID:EVENTFROG//EVENT//ICAL
BEGIN:VEVENT
UID:20260424T110752Z-7453199128891254282@eventfrog.de
DTSTAMP:20260424T110752Z
DTSTART:20260425T180000Z
SUMMARY:Liebe und Partnerschaft im Buddhismus - Vortrag
DESCRIPTION:Bea Amar und Meike Martins Pereira erklären, wie man im Buddhismus Liebe und Partnerschaft für persönliche Entwicklung zum Besten aller nutzen kann. Danach angeleitete Meditation. Eintritt 7 Euro.\n\nhttps://eventfrog.de/de/p/fuehrungen-vortraege/vortrag/liebe-und-partnerschaft-im-buddhismus-vortrag-7453199128891254282.html
LOCATION:Buddhistisches Zentrum Bremen
GEO:53.084831;8.826065
URL:https://eventfrog.de/de/p/fuehrungen-vortraege/vortrag/liebe-und-partnerschaft-im-buddhismus-vortrag-7453199128891254282.html
END:VEVENT
END:VCALENDAR