BEGIN:VCALENDAR
VERSION:2.0
PRODID:EVENTFROG//EVENT//ICAL
BEGIN:VEVENT
UID:20260424T084908Z-7453202034214364440@eventfrog.de
DTSTAMP:20260424T084908Z
DTSTART:20260606T120000Z
DTEND:20260606T140000Z
SUMMARY:Stadtführung
DESCRIPTION:Geführter Spaziergang durch die Geschichte der Stadt Gossau.\n\nhttps://eventfrog.de/de/p/wissenschaft-und-technik/stadtfuehrung-7453202034214364440.html
LOCATION:Gossau
GEO:47.417359;9.259289
URL:https://eventfrog.de/de/p/wissenschaft-und-technik/stadtfuehrung-7453202034214364440.html
END:VEVENT
END:VCALENDAR