BEGIN:VCALENDAR
VERSION:2.0
PRODID:EVENTFROG//EVENT//ICAL
BEGIN:VEVENT
UID:20260424T084620Z-7453202035078391069@eventfrog.de
DTSTAMP:20260424T084620Z
DTSTART:20261107T130000Z
DTEND:20261107T150000Z
SUMMARY:Stadtführung
DESCRIPTION:Geführter Spaziergang durch die Geschichte der Stadt Gossau.\n\nhttps://eventfrog.de/de/p/wissenschaft-und-technik/stadtfuehrung-7453202035078391069.html
LOCATION:Gossau
GEO:47.417359;9.259289
URL:https://eventfrog.de/de/p/wissenschaft-und-technik/stadtfuehrung-7453202035078391069.html
END:VEVENT
END:VCALENDAR