BEGIN:VCALENDAR
VERSION:2.0
PRODID:EVENTFROG//EVENT//ICAL
BEGIN:VEVENT
UID:20260424T071639Z-7453202035258746143@eventfrog.de
DTSTAMP:20260424T071639Z
DTSTART:20260617T160000Z
DTEND:20260617T180000Z
SUMMARY:Stadtführung mit Velo
DESCRIPTION:Geführte Velofahrt durch die Geschichte der Stadt Gossau.\n\nhttps://eventfrog.de/de/p/wissenschaft-und-technik/stadtfuehrung-mit-velo-7453202035258746143.html
LOCATION:Gossau
GEO:47.417359;9.259289
URL:https://eventfrog.de/de/p/wissenschaft-und-technik/stadtfuehrung-mit-velo-7453202035258746143.html
END:VEVENT
END:VCALENDAR