BEGIN:VCALENDAR
VERSION:2.0
PRODID:EVENTFROG//EVENT//ICAL
BEGIN:VEVENT
UID:20260424T072459Z-7453202062404286160@eventfrog.de
DTSTAMP:20260424T072459Z
DTSTART:20260424T220000Z
DTEND:20260619T215900Z
SUMMARY:30 Jahre Tüüfner Poscht - Ein Dorf schreibt Geschichte
DESCRIPTION:Ausstellung zum 30-Jahre-Jubiläum der «Tüüfner Poscht».\n\nhttps://eventfrog.de/de/p/wissenschaft-und-technik/30-jahre-tueuefner-poscht-ein-dorf-schreibt-geschichte-7453202062404286160.html
LOCATION:ehem. Schulhaus Dorf
GEO:47.390341;9.387145
URL:https://eventfrog.de/de/p/wissenschaft-und-technik/30-jahre-tueuefner-poscht-ein-dorf-schreibt-geschichte-7453202062404286160.html
END:VEVENT
END:VCALENDAR