BEGIN:VCALENDAR
VERSION:2.0
PRODID:EVENTFROG//EVENT//ICAL
BEGIN:VEVENT
UID:20260424T105038Z-7453310613176982472@eventfrog.de
DTSTAMP:20260424T105038Z
DTSTART:20260509T090000Z
DTEND:20260509T180000Z
SUMMARY:#MoveTheDate Festival für zukunftsfähige  Life-Styles
DESCRIPTION:Am 9. Mai 2026 bietet das #MoveTheDate Festival in Zürich Musik, Talks und nachhaltige Angebote zum Public Closing der Climate Week.\n\nhttps://eventfrog.de/de/p/festivals/weitere-festivals/movethedate-festival-fuer-zukunftsfaehige-life-styles-7453310613176982472.html
LOCATION:JOSY, Josef-Areal
GEO:47.386716;8.520617
URL:https://eventfrog.de/de/p/festivals/weitere-festivals/movethedate-festival-fuer-zukunftsfaehige-life-styles-7453310613176982472.html
END:VEVENT
END:VCALENDAR