BEGIN:VCALENDAR
VERSION:2.0
PRODID:EVENTFROG//EVENT//ICAL
BEGIN:VEVENT
UID:20260424T130321Z-7453333382212149380@eventfrog.de
DTSTAMP:20260424T130321Z
DTSTART:20260504T163000Z
DTEND:20260504T190000Z
SUMMARY:Sprechen & Zuhören in Düsseldorf
DESCRIPTION:„Wie geht es mir gerade mit dem zwischenmenschlichen Miteinander in Düsseldorf?“\n\nein „Sprechen & Zuhören“ von Mehr Demokratie e.V. am 4.5.2026 im KAP 1\n\nhttps://eventfrog.de/de/p/politik-gemeinde/politik/sprechen-zuhoeren-in-duesseldorf-7453333382212149380.html
LOCATION:Zentralbibliothek Düsseldorf - KAP 1
GEO:51.222141;6.792967
URL:https://eventfrog.de/de/p/politik-gemeinde/politik/sprechen-zuhoeren-in-duesseldorf-7453333382212149380.html
END:VEVENT
END:VCALENDAR