BEGIN:VCALENDAR
VERSION:2.0
PRODID:EVENTFROG//EVENT//ICAL
BEGIN:VEVENT
UID:20260425T030829Z-7453354333234560802@eventfrog.de
DTSTAMP:20260425T030829Z
DTSTART:20260718T153000Z
DTEND:20260718T190000Z
SUMMARY:Bierpong Turnier im Moderne
DESCRIPTION:Im Moderne startet um 17:30 Uhr ein gratis Bierpong-Turnier mit Gruppenspielen und Finalrunden. Anmeldung per Mail erforderlich.\n\nhttps://eventfrog.de/de/p/diverses/bierpong-turnier-im-moderne-7453354333234560802.html
LOCATION:Moderne Bar & Karussell
GEO:47.048440;8.306079
URL:https://eventfrog.de/de/p/diverses/bierpong-turnier-im-moderne-7453354333234560802.html
END:VEVENT
END:VCALENDAR