BEGIN:VCALENDAR
VERSION:2.0
PRODID:EVENTFROG//EVENT//ICAL
BEGIN:VEVENT
UID:20260425T125152Z-7453362335790419810@eventfrog.de
DTSTAMP:20260425T125152Z
DTSTART:20260520T170000Z
DTEND:20260520T181500Z
SUMMARY:Hora Cultura: Lieder der Sehnsucht
DESCRIPTION:Andrea Lora Keller und Jason Paul Peterson verbinden Romantik, spanische Lieder und Tango in einem vielseitigen Liederabend voller Gefühl.\n\nhttps://eventfrog.de/de/p/klassik-opern/klassik/hora-cultura-lieder-der-sehnsucht-7453362335790419810.html
LOCATION:Kirchliches Zentrum Zwinglihaus
GEO:47.220165;7.781998
URL:https://eventfrog.de/de/p/klassik-opern/klassik/hora-cultura-lieder-der-sehnsucht-7453362335790419810.html
END:VEVENT
END:VCALENDAR