BEGIN:VCALENDAR
VERSION:2.0
PRODID:EVENTFROG//EVENT//ICAL
BEGIN:VEVENT
UID:20260424T164253Z-7453362694210495041@eventfrog.de
DTSTAMP:20260424T164253Z
DTSTART:20260606T083000Z
DTEND:20260606T150000Z
SUMMARY:Kinderfest im Rumipark (nahe Farbgasse)
DESCRIPTION:Für Kinder bis ca. 10 Jahre: Rösslireiten, Einrad, Luftblasen, Kinderschminken, Basteln, Karussell. Zusätzlich Kaffee & Kuchen.\n\nhttps://eventfrog.de/de/p/kinderveranstaltungen/kinderfest/kinderfest-im-rumipark-nahe-farbgasse-7453362694210495041.html
LOCATION:Farbgasse
GEO:47.208761;7.789192
URL:https://eventfrog.de/de/p/kinderveranstaltungen/kinderfest/kinderfest-im-rumipark-nahe-farbgasse-7453362694210495041.html
END:VEVENT
END:VCALENDAR