BEGIN:VCALENDAR
VERSION:2.0
PRODID:EVENTFROG//EVENT//ICAL
BEGIN:VEVENT
UID:20260424T162500Z-7453366622562073731@eventfrog.de
DTSTAMP:20260424T162500Z
DTSTART:20260526T120000Z
DTEND:20260526T153000Z
SUMMARY:Dalbe Dyych
DESCRIPTION:Jeweils am Dienstag entdecken wir mit den Kindern ab 5 Jahren den Naturraum am Dalbe Dyych im Lehenmattquartier, Treffpunkt ist am Spielplatz St. Albanteich.\n\nhttps://eventfrog.de/de/p/kinderveranstaltungen/familienveranstaltungen/dalbe-dyych-7453366622562073731.html
LOCATION:St. Albanteich Spielplatz
GEO:47.546778;7.619958
URL:https://eventfrog.de/de/p/kinderveranstaltungen/familienveranstaltungen/dalbe-dyych-7453366622562073731.html
END:VEVENT
END:VCALENDAR