BEGIN:VCALENDAR
VERSION:2.0
PRODID:EVENTFROG//EVENT//ICAL
BEGIN:VEVENT
UID:20260424T162346Z-7453372682886719369@eventfrog.de
DTSTAMP:20260424T162346Z
DTSTART:20260724T120000Z
DTEND:20260724T170000Z
SUMMARY:Summer-Kunschti
DESCRIPTION:Die Summer-Kunschti Margarethen geht in die nächste Runde! Entdecke eine bunte Welt aus Sport, Spiel und Spass. Spielmaterial kann vor Ort gegen ein Pfand ausgeliehen oder selber mitgebracht werden.\n\nhttps://eventfrog.de/de/p/kinderveranstaltungen/familienveranstaltungen/summer-kunschti-7453372682886719369.html
LOCATION:Kunsteisbahn Margarethen
GEO:47.540713;7.586089
URL:https://eventfrog.de/de/p/kinderveranstaltungen/familienveranstaltungen/summer-kunschti-7453372682886719369.html
END:VEVENT
END:VCALENDAR