BEGIN:VCALENDAR
VERSION:2.0
PRODID:EVENTFROG//EVENT//ICAL
BEGIN:VEVENT
UID:20260424T160407Z-7453377766022508514@eventfrog.de
DTSTAMP:20260424T160407Z
DTSTART:20260628T090000Z
DTEND:20260628T160000Z
SUMMARY:Summer-Kunschti heute mit Zumba und Scooter Workshops
DESCRIPTION:Summer-Kunschti heute mit Zumba um 11.30 Uhr. Von 13-14h Einsteiger Scooter und von 14-15h Fortgeschrittene. Kostenlos, Alter unbeschränkt, Material mitbringen oder vor Ort ausleihen. Ohne Anmeldung.\n\nhttps://eventfrog.de/de/p/kinderveranstaltungen/familienveranstaltungen/summer-kunschti-heute-mit-zumba-und-scooter-workshops-7453377766022508514.html
LOCATION:Kunsteisbahn Margarethen
GEO:47.540713;7.586089
URL:https://eventfrog.de/de/p/kinderveranstaltungen/familienveranstaltungen/summer-kunschti-heute-mit-zumba-und-scooter-workshops-7453377766022508514.html
END:VEVENT
END:VCALENDAR